BEGIN:VCALENDAR
VERSION:2.0
PRODID:-//wp-events-plugin.com//7.2.3//EN
TZID:Europe/Helsinki
X-WR-TIMEZONE:Europe/Helsinki
BEGIN:VEVENT
UID:664@muuruvesi.fi
DTSTART;TZID=Europe/Helsinki:20250913T090000
DTEND;TZID=Europe/Helsinki:20250913T140000
DTSTAMP:20250912T061921Z
URL:https://muuruvesi.fi/tapahtumat/syysmarkkinat-alustava-varaus/
SUMMARY:Syysmarkkinat Muuruveden kylätalolla
DESCRIPTION:
CATEGORIES:Tapahtuma,Tilavaraus
END:VEVENT
BEGIN:VTIMEZONE
TZID:Europe/Helsinki
X-LIC-LOCATION:Europe/Helsinki
BEGIN:DAYLIGHT
DTSTART:20250330T040000
TZOFFSETFROM:+0200
TZOFFSETTO:+0300
TZNAME:EEST
END:DAYLIGHT
END:VTIMEZONE
END:VCALENDAR