BEGIN:VCALENDAR
VERSION:2.0
PRODID:-//wp-events-plugin.com//7.2.3//EN
TZID:Europe/Helsinki
X-WR-TIMEZONE:Europe/Helsinki
BEGIN:VEVENT
UID:678@muuruvesi.fi
DTSTART;TZID=Europe/Helsinki:20251104T153000
DTEND;TZID=Europe/Helsinki:20251104T170000
DTSTAMP:20250922T165854Z
URL:https://muuruvesi.fi/tapahtumat/senioritanssi-harjoitukset-2025-11-04/
SUMMARY:Senioritanssi harjoitukset
DESCRIPTION:
CATEGORIES:Tilavaraus
END:VEVENT
BEGIN:VTIMEZONE
TZID:Europe/Helsinki
X-LIC-LOCATION:Europe/Helsinki
BEGIN:STANDARD
DTSTART:20251026T030000
TZOFFSETFROM:+0300
TZOFFSETTO:+0200
TZNAME:EET
END:STANDARD
END:VTIMEZONE
END:VCALENDAR