BEGIN:VCALENDAR
VERSION:2.0
PRODID:-//wp-events-plugin.com//7.2.3//EN
TZID:Europe/Helsinki
X-WR-TIMEZONE:Europe/Helsinki
BEGIN:VEVENT
UID:943@muuruvesi.fi
DTSTART;TZID=Europe/Helsinki:20251101T110000
DTEND;TZID=Europe/Helsinki:20251101T130000
DTSTAMP:20251021T155116Z
URL:https://muuruvesi.fi/tapahtumat/rengin-popup-putaan-lohikeittoa-tarjol
 la/
SUMMARY:Rengin popup Putaan lohikeittoa tarjolla.
DESCRIPTION:
CATEGORIES:Tilavaraus
END:VEVENT
BEGIN:VTIMEZONE
TZID:Europe/Helsinki
X-LIC-LOCATION:Europe/Helsinki
BEGIN:STANDARD
DTSTART:20251026T030000
TZOFFSETFROM:+0300
TZOFFSETTO:+0200
TZNAME:EET
END:STANDARD
END:VTIMEZONE
END:VCALENDAR