BEGIN:VCALENDAR
VERSION:2.0
PRODID:-//wp-events-plugin.com//7.2.3//EN
TZID:Europe/Helsinki
X-WR-TIMEZONE:Europe/Helsinki
BEGIN:VEVENT
UID:647@muuruvesi.fi
DTSTART;TZID=Europe/Helsinki:20251210T083000
DTEND;TZID=Europe/Helsinki:20251210T123000
DTSTAMP:20250618T142342Z
URL:https://muuruvesi.fi/tapahtumat/perhe-treffit-pelastakaa-lapset-ry-kuo
 pion-perheen-talo-4/
SUMMARY:Perhe treffit /Pelastakaa lapset ry Kuopion perheen talo)
DESCRIPTION:
CATEGORIES:Tilavaraus
END:VEVENT
BEGIN:VTIMEZONE
TZID:Europe/Helsinki
X-LIC-LOCATION:Europe/Helsinki
BEGIN:STANDARD
DTSTART:20251026T030000
TZOFFSETFROM:+0300
TZOFFSETTO:+0200
TZNAME:EET
END:STANDARD
END:VTIMEZONE
END:VCALENDAR