BEGIN:VCALENDAR
VERSION:2.0
PRODID:-//wp-events-plugin.com//7.2.3//EN
TZID:Europe/Helsinki
X-WR-TIMEZONE:Europe/Helsinki
BEGIN:VEVENT
UID:645@muuruvesi.fi
DTSTART;TZID=Europe/Helsinki:20251008T083000
DTEND;TZID=Europe/Helsinki:20251008T123000
DTSTAMP:20250618T141905Z
URL:https://muuruvesi.fi/tapahtumat/perhe-treffit-pelastakaa-lapset-ry-kuo
 pion-perheen-talo-2/
SUMMARY:Perhe treffit (Pelastakaa lapset ry Kuopion perheen talo)
DESCRIPTION:
CATEGORIES:Tilavaraus
LOCATION:Muuruveden koulu\, Oppipolku 7\, Kuopio\, 73460\, Muuruvesi \, Suo
 mi
X-APPLE-STRUCTURED-LOCATION;VALUE=URI;X-ADDRESS=Oppipolku 7\, Kuopio\, 7346
 0\, Muuruvesi \, Suomi;X-APPLE-RADIUS=100;X-TITLE=Muuruveden koulu:geo:0,0
END:VEVENT
BEGIN:VTIMEZONE
TZID:Europe/Helsinki
X-LIC-LOCATION:Europe/Helsinki
BEGIN:DAYLIGHT
DTSTART:20250330T040000
TZOFFSETFROM:+0200
TZOFFSETTO:+0300
TZNAME:EEST
END:DAYLIGHT
END:VTIMEZONE
END:VCALENDAR