BEGIN:VCALENDAR
VERSION:2.0
PRODID:-//wp-events-plugin.com//7.2.3//EN
TZID:Europe/Helsinki
X-WR-TIMEZONE:Europe/Helsinki
BEGIN:VEVENT
UID:881@muuruvesi.fi
DTSTART;TZID=Europe/Helsinki:20251006T103000
DTEND;TZID=Europe/Helsinki:20251006T113000
DTSTAMP:20251001T183833Z
URL:https://muuruvesi.fi/tapahtumat/ohjattua-tuolijumppaa-kylatalolla-2025
 -10-06/
SUMMARY:Ohjattua tuolijumppaa kylätalolla
DESCRIPTION:Jyskeen ja Eläkeyhdistyksen järjestämää ohjattua tuolijump
 paa  maanantaisin 6.10-8.12.2025 klo. 10.30 - 11.30 Muuruveden kylätalon
  salissa. Ohjaajana Arja Toivanen.\n\nEi tarvitse ilmoittautua etukäteen.
 \n\n&nbsp\;
CATEGORIES:Tilavaraus
LOCATION:Muuruveden Kylätalo\, Rantatie 9\, Muuruvesi\, 73460\, Suomi
X-APPLE-STRUCTURED-LOCATION;VALUE=URI;X-ADDRESS=Rantatie 9\, Muuruvesi\, 73
 460\, Suomi;X-APPLE-RADIUS=100;X-TITLE=Muuruveden Kylätalo:geo:0,0
END:VEVENT
BEGIN:VTIMEZONE
TZID:Europe/Helsinki
X-LIC-LOCATION:Europe/Helsinki
BEGIN:DAYLIGHT
DTSTART:20250330T040000
TZOFFSETFROM:+0200
TZOFFSETTO:+0300
TZNAME:EEST
END:DAYLIGHT
END:VTIMEZONE
END:VCALENDAR