BEGIN:VCALENDAR
VERSION:2.0
PRODID:-//wp-events-plugin.com//7.2.3//EN
TZID:Europe/Helsinki
X-WR-TIMEZONE:Europe/Helsinki
BEGIN:VEVENT
UID:1049@muuruvesi.fi
DTSTART;TZID=Europe/Helsinki:20260108T180000
DTEND;TZID=Europe/Helsinki:20260108T200000
DTSTAMP:20251231T131030Z
URL:https://muuruvesi.fi/tapahtumat/muuruveden-kylayhdistyksen-hallituksen
 -kokous-3/
SUMMARY:Muuruveden Kyläyhdistyksen hallituksen kokous
DESCRIPTION:
CATEGORIES:Tilavaraus
END:VEVENT
BEGIN:VTIMEZONE
TZID:Europe/Helsinki
X-LIC-LOCATION:Europe/Helsinki
BEGIN:STANDARD
DTSTART:20251026T030000
TZOFFSETFROM:+0300
TZOFFSETTO:+0200
TZNAME:EET
END:STANDARD
END:VTIMEZONE
END:VCALENDAR