BEGIN:VCALENDAR
VERSION:2.0
PRODID:-//wp-events-plugin.com//7.2.3//EN
TZID:Europe/Helsinki
X-WR-TIMEZONE:Europe/Helsinki
BEGIN:VEVENT
UID:1080@muuruvesi.fi
DTSTART;TZID=Europe/Helsinki:20260601T090000
DTEND;TZID=Europe/Helsinki:20260601T150000
DTSTAMP:20260301T134904Z
URL:https://muuruvesi.fi/tapahtumat/muuruveden-alueseurakunnan-kesiskerho-
 2026-06-01/
SUMMARY:Muuruveden alueseurakunnan Lasten Kesiskerho klo 10-14
DESCRIPTION:Tapahtuma alkaa klo 10\, päättyy klo 14\n\nSään salliessa u
 lkoleikkejä\n\n&nbsp\;
CATEGORIES:Tapahtuma,Tilavaraus
LOCATION:Muuruveden Kylätalo\, Rantatie 9\, Muuruvesi\, 73460\, Suomi
X-APPLE-STRUCTURED-LOCATION;VALUE=URI;X-ADDRESS=Rantatie 9\, Muuruvesi\, 73
 460\, Suomi;X-APPLE-RADIUS=100;X-TITLE=Muuruveden Kylätalo:geo:0,0
END:VEVENT
BEGIN:VTIMEZONE
TZID:Europe/Helsinki
X-LIC-LOCATION:Europe/Helsinki
BEGIN:DAYLIGHT
DTSTART:20260329T040000
TZOFFSETFROM:+0200
TZOFFSETTO:+0300
TZNAME:EEST
END:DAYLIGHT
END:VTIMEZONE
END:VCALENDAR