BEGIN:VCALENDAR
VERSION:2.0
PRODID:-//wp-events-plugin.com//7.2.3//EN
TZID:Europe/Helsinki
X-WR-TIMEZONE:Europe/Helsinki
BEGIN:VEVENT
UID:424@muuruvesi.fi
DTSTART;TZID=Europe/Helsinki:20250809T100000
DTEND;TZID=Europe/Helsinki:20250809T140000
DTSTAMP:20250408T093215Z
URL:https://muuruvesi.fi/tapahtumat/kuvataidepaiva-lapsille-ja-aikuisille/
SUMMARY:Kuvataidepäivä lapsille ja aikuisille.
DESCRIPTION:Hilkka Pehkonen vastaava ohjaaja.
CATEGORIES:Tilavaraus
END:VEVENT
BEGIN:VTIMEZONE
TZID:Europe/Helsinki
X-LIC-LOCATION:Europe/Helsinki
BEGIN:DAYLIGHT
DTSTART:20250330T040000
TZOFFSETFROM:+0200
TZOFFSETTO:+0300
TZNAME:EEST
END:DAYLIGHT
END:VTIMEZONE
END:VCALENDAR