BEGIN:VCALENDAR
VERSION:2.0
PRODID:-//wp-events-plugin.com//7.2.3//EN
TZID:Europe/Helsinki
X-WR-TIMEZONE:Europe/Helsinki
BEGIN:VEVENT
UID:801@muuruvesi.fi
DTSTART;TZID=Europe/Helsinki:20250823T100000
DTEND;TZID=Europe/Helsinki:20250823T140000
DTSTAMP:20250729T084350Z
URL:https://muuruvesi.fi/tapahtumat/konttimaen-ja-pettaisen-tiekunnan-koko
 us/
SUMMARY:Konttimäen- ja Pettäisen tiekunnan kokous.
DESCRIPTION:Hannu Heikkinen p. +358400576489
CATEGORIES:Tilavaraus
END:VEVENT
BEGIN:VTIMEZONE
TZID:Europe/Helsinki
X-LIC-LOCATION:Europe/Helsinki
BEGIN:DAYLIGHT
DTSTART:20250330T040000
TZOFFSETFROM:+0200
TZOFFSETTO:+0300
TZNAME:EEST
END:DAYLIGHT
END:VTIMEZONE
END:VCALENDAR