BEGIN:VCALENDAR
VERSION:2.0
PRODID:-//wp-events-plugin.com//7.2.3//EN
TZID:Europe/Helsinki
X-WR-TIMEZONE:Europe/Helsinki
BEGIN:VEVENT
UID:1155@muuruvesi.fi
DTSTART;TZID=Europe/Helsinki:20261117T173000
DTEND;TZID=Europe/Helsinki:20261117T203000
DTSTAMP:20260425T083728Z
URL:https://muuruvesi.fi/tapahtumat/koillis-savon-tanssijat-harjoitus-5-20
 26-11-17/
SUMMARY:Koillis-Savon Tanssijat harjoitus
DESCRIPTION:
CATEGORIES:Tilavaraus
LOCATION:Muuruveden Kylätalo\, Rantatie 9\, Muuruvesi\, 73460\, Suomi
X-APPLE-STRUCTURED-LOCATION;VALUE=URI;X-ADDRESS=Rantatie 9\, Muuruvesi\, 73
 460\, Suomi;X-APPLE-RADIUS=100;X-TITLE=Muuruveden Kylätalo:geo:0,0
END:VEVENT
BEGIN:VTIMEZONE
TZID:Europe/Helsinki
X-LIC-LOCATION:Europe/Helsinki
BEGIN:STANDARD
DTSTART:20261025T030000
TZOFFSETFROM:+0300
TZOFFSETTO:+0200
TZNAME:EET
END:STANDARD
END:VTIMEZONE
END:VCALENDAR