BEGIN:VCALENDAR
VERSION:2.0
PRODID:-//wp-events-plugin.com//7.2.3//EN
TZID:Europe/Helsinki
X-WR-TIMEZONE:Europe/Helsinki
BEGIN:VEVENT
UID:695@muuruvesi.fi
DTSTART;TZID=Europe/Helsinki:20251118T173000
DTEND;TZID=Europe/Helsinki:20251118T203000
DTSTAMP:20250922T165915Z
URL:https://muuruvesi.fi/tapahtumat/koillis-savon-tanssijat-harjoitus-2-20
 25-11-18/
SUMMARY:Koillis-Savon Tanssijat harjoitus
DESCRIPTION:Perustaso klo 17.30 - 19\n\nJatkotaso klo 19 - 20.30\n\nOhjaaji
 na Mika Kasurinen ja Sari Vaakanainen
CATEGORIES:Tilavaraus
LOCATION:Muuruveden Kylätalo\, Rantatie 9\, Muuruvesi\, 73460\, Suomi
X-APPLE-STRUCTURED-LOCATION;VALUE=URI;X-ADDRESS=Rantatie 9\, Muuruvesi\, 73
 460\, Suomi;X-APPLE-RADIUS=100;X-TITLE=Muuruveden Kylätalo:geo:0,0
END:VEVENT
BEGIN:VTIMEZONE
TZID:Europe/Helsinki
X-LIC-LOCATION:Europe/Helsinki
BEGIN:STANDARD
DTSTART:20251026T030000
TZOFFSETFROM:+0300
TZOFFSETTO:+0200
TZNAME:EET
END:STANDARD
END:VTIMEZONE
END:VCALENDAR