BEGIN:VCALENDAR
VERSION:2.0
PRODID:-//wp-events-plugin.com//7.2.3//EN
TZID:Europe/Helsinki
X-WR-TIMEZONE:Europe/Helsinki
BEGIN:VEVENT
UID:928@muuruvesi.fi
DTSTART;TZID=Europe/Helsinki:20251214T160000
DTEND;TZID=Europe/Helsinki:20251214T173000
DTSTAMP:20250927T072302Z
URL:https://muuruvesi.fi/tapahtumat/kauneimmat-joululaulut-tapahtuman-puur
 o-ja-arpajaiset-kylatalolla/
SUMMARY:Kauneimmat joululaulut tapahtuman puuro ja arpajaiset kylätalolla
DESCRIPTION:Kauneimmat joululaulut tapahtuman puuro ja arpajaiset Muuruvede
 n kylätalolla klo 16-17:30. Arpajaispalkintoja otetaan kylätalolla vasta
 an klo 15.30 lähtien.\n\nKauneimmat joululaulut lauletaan Muuruveden kirk
 ossa klo 18 alkaen. Tilaisuuden lopussa kerrotaan arpojen voittajat\, jotk
 a saavat voitot kirkon eteisestä.
CATEGORIES:Tapahtuma,Tilavaraus
LOCATION:Muuruveden Kylätalo\, Rantatie 9\, Muuruvesi\, 73460\, Suomi
X-APPLE-STRUCTURED-LOCATION;VALUE=URI;X-ADDRESS=Rantatie 9\, Muuruvesi\, 73
 460\, Suomi;X-APPLE-RADIUS=100;X-TITLE=Muuruveden Kylätalo:geo:0,0
END:VEVENT
BEGIN:VTIMEZONE
TZID:Europe/Helsinki
X-LIC-LOCATION:Europe/Helsinki
BEGIN:STANDARD
DTSTART:20251026T030000
TZOFFSETFROM:+0300
TZOFFSETTO:+0200
TZNAME:EET
END:STANDARD
END:VTIMEZONE
END:VCALENDAR