BEGIN:VCALENDAR
VERSION:2.0
PRODID:-//wp-events-plugin.com//7.2.3//EN
TZID:Europe/Helsinki
X-WR-TIMEZONE:Europe/Helsinki
BEGIN:VEVENT
UID:201@muuruvesi.fi
DTSTART;TZID=Europe/Helsinki:20250212T180000
DTEND;TZID=Europe/Helsinki:20250212T190000
DTSTAMP:20250211T111744Z
URL:https://muuruvesi.fi/tapahtumat/jyskeen-johtokunnan-kokous/
SUMMARY:Jyskeen johtokunnan kokous.
DESCRIPTION:
CATEGORIES:Tilavaraus
END:VEVENT
BEGIN:VTIMEZONE
TZID:Europe/Helsinki
X-LIC-LOCATION:Europe/Helsinki
BEGIN:STANDARD
DTSTART:20241027T030000
TZOFFSETFROM:+0300
TZOFFSETTO:+0200
TZNAME:EET
END:STANDARD
END:VTIMEZONE
END:VCALENDAR