BEGIN:VCALENDAR
VERSION:2.0
PRODID:-//wp-events-plugin.com//7.2.3//EN
TZID:Europe/Helsinki
X-WR-TIMEZONE:Europe/Helsinki
BEGIN:VEVENT
UID:1034@muuruvesi.fi
DTSTART;TZID=Europe/Helsinki:20251212T160000
DTEND;TZID=Europe/Helsinki:20251212T180000
DTSTAMP:20251208T080357Z
URL:https://muuruvesi.fi/tapahtumat/juankosken-riistanhoitoyhdistys-keitti
 ovaraus/
SUMMARY:Juankosken Riistanhoitoyhdistys keittiövaraus
DESCRIPTION:Keittiön käyttö yhteiseen hyvään
CATEGORIES:Tilavaraus
LOCATION:Muuruveden Kylätalo\, Rantatie 9\, Muuruvesi\, 73460\, Suomi
X-APPLE-STRUCTURED-LOCATION;VALUE=URI;X-ADDRESS=Rantatie 9\, Muuruvesi\, 73
 460\, Suomi;X-APPLE-RADIUS=100;X-TITLE=Muuruveden Kylätalo:geo:0,0
END:VEVENT
BEGIN:VTIMEZONE
TZID:Europe/Helsinki
X-LIC-LOCATION:Europe/Helsinki
BEGIN:STANDARD
DTSTART:20251026T030000
TZOFFSETFROM:+0300
TZOFFSETTO:+0200
TZNAME:EET
END:STANDARD
END:VTIMEZONE
END:VCALENDAR