BEGIN:VCALENDAR
VERSION:2.0
PRODID:-//wp-events-plugin.com//7.2.3//EN
TZID:Europe/Helsinki
X-WR-TIMEZONE:Europe/Helsinki
BEGIN:VEVENT
UID:1141@muuruvesi.fi
DTSTART;TZID=Europe/Helsinki:20261201T093000
DTEND;TZID=Europe/Helsinki:20261201T110000
DTSTAMP:20260425T064657Z
URL:https://muuruvesi.fi/tapahtumat/alueseurakunnan-perhekerho-4-2026-08-2
 5-2026-09-01-2026-09-08-2026-09-15-2026-09-22-2026-09-29-2026-10-06-2026-1
 0-13-2026-10-20-2026-10-27-2026-11-03-2026-11-10-2026-11-17-2026-11-24-202
 6-12-01/
SUMMARY:Alueseurakunnan perhekerho
DESCRIPTION:
CATEGORIES:Tilavaraus
LOCATION:Muuruveden Kylätalo\, Rantatie 9\, Muuruvesi\, 73460\, Suomi
X-APPLE-STRUCTURED-LOCATION;VALUE=URI;X-ADDRESS=Rantatie 9\, Muuruvesi\, 73
 460\, Suomi;X-APPLE-RADIUS=100;X-TITLE=Muuruveden Kylätalo:geo:0,0
END:VEVENT
BEGIN:VTIMEZONE
TZID:Europe/Helsinki
X-LIC-LOCATION:Europe/Helsinki
BEGIN:STANDARD
DTSTART:20261025T030000
TZOFFSETFROM:+0300
TZOFFSETTO:+0200
TZNAME:EET
END:STANDARD
END:VTIMEZONE
END:VCALENDAR