BEGIN:VCALENDAR
VERSION:2.0
PRODID:-//wp-events-plugin.com//7.2.3//EN
TZID:Europe/Helsinki
X-WR-TIMEZONE:Europe/Helsinki
BEGIN:VEVENT
UID:844@muuruvesi.fi
DTSTART;TZID=Europe/Helsinki:20250916T093000
DTEND;TZID=Europe/Helsinki:20250916T110000
DTSTAMP:20250922T165840Z
URL:https://muuruvesi.fi/tapahtumat/alueseurakunnan-perhekerho-2-2025-09-1
 6/
SUMMARY:Alueseurakunnan perhekerho
DESCRIPTION:Perhekerho on avoin kaikille lapsiperheille.\n\n&nbsp\;\n\nKerh
 ossa vietämme leppoisasti aikaa leikkien\, erilaisiin toiminta- /askartel
 utuokioihin osallistuen\, kahvitellen ja hiljentyen pienen hartauden äär
 ellä. Tervetuloa mukaan!\n\nMuuruveden kylätalo\, Rantatie 9\, 73460 Muu
 ruvesi.
CATEGORIES:Tilavaraus
LOCATION:Muuruveden satama\, Satamakuja5\, Kuopio\, 73460\, Muuruvesi \, Su
 omi
X-APPLE-STRUCTURED-LOCATION;VALUE=URI;X-ADDRESS=Satamakuja5\, Kuopio\, 7346
 0\, Muuruvesi \, Suomi;X-APPLE-RADIUS=100;X-TITLE=Muuruveden satama:geo:0,
 0
END:VEVENT
BEGIN:VTIMEZONE
TZID:Europe/Helsinki
X-LIC-LOCATION:Europe/Helsinki
BEGIN:DAYLIGHT
DTSTART:20250330T040000
TZOFFSETFROM:+0200
TZOFFSETTO:+0300
TZNAME:EEST
END:DAYLIGHT
END:VTIMEZONE
END:VCALENDAR